BEGIN:VCALENDAR
VERSION:2.0
PRODID:-//Planned Pethood Leadville - ECPv6.15.20//NONSGML v1.0//EN
CALSCALE:GREGORIAN
METHOD:PUBLISH
X-ORIGINAL-URL:https://plannedpethoodleadville.org
X-WR-CALDESC:Events for Planned Pethood Leadville
REFRESH-INTERVAL;VALUE=DURATION:PT1H
X-Robots-Tag:noindex
X-PUBLISHED-TTL:PT1H
BEGIN:VTIMEZONE
TZID:America/Denver
BEGIN:DAYLIGHT
TZOFFSETFROM:-0700
TZOFFSETTO:-0600
TZNAME:MDT
DTSTART:20240310T090000
END:DAYLIGHT
BEGIN:STANDARD
TZOFFSETFROM:-0600
TZOFFSETTO:-0700
TZNAME:MST
DTSTART:20241103T080000
END:STANDARD
BEGIN:DAYLIGHT
TZOFFSETFROM:-0700
TZOFFSETTO:-0600
TZNAME:MDT
DTSTART:20250309T090000
END:DAYLIGHT
BEGIN:STANDARD
TZOFFSETFROM:-0600
TZOFFSETTO:-0700
TZNAME:MST
DTSTART:20251102T080000
END:STANDARD
BEGIN:DAYLIGHT
TZOFFSETFROM:-0700
TZOFFSETTO:-0600
TZNAME:MDT
DTSTART:20260308T090000
END:DAYLIGHT
BEGIN:STANDARD
TZOFFSETFROM:-0600
TZOFFSETTO:-0700
TZNAME:MST
DTSTART:20261101T080000
END:STANDARD
BEGIN:DAYLIGHT
TZOFFSETFROM:-0700
TZOFFSETTO:-0600
TZNAME:MDT
DTSTART:20270314T090000
END:DAYLIGHT
BEGIN:STANDARD
TZOFFSETFROM:-0600
TZOFFSETTO:-0700
TZNAME:MST
DTSTART:20271107T080000
END:STANDARD
END:VTIMEZONE
BEGIN:VEVENT
DTSTART;VALUE=DATE:20260225
DTEND;VALUE=DATE:20260226
DTSTAMP:20260423T093051
CREATED:20250521T161456Z
LAST-MODIFIED:20250521T161456Z
UID:2125-1771977600-1772063999@plannedpethoodleadville.org
SUMMARY:World Spay Day
DESCRIPTION:
URL:https://plannedpethoodleadville.org/event/world-spay-day/
END:VEVENT
BEGIN:VEVENT
DTSTART;VALUE=DATE:20260221
DTEND;VALUE=DATE:20260222
DTSTAMP:20260423T093051
CREATED:20250521T170029Z
LAST-MODIFIED:20260106T034608Z
UID:2139-1771632000-1771718399@plannedpethoodleadville.org
SUMMARY:PARDI PAWS 2026
DESCRIPTION:🎉 Pardi Paws: Paws for a Cause! 🐾 \nJoin Planned Pethood Leadville’s Krewe Chewbarkus for a night of New Orleans style fun at our biggest annual fundraiser. Enjoy delicious food\,  entertainment\, a cash bar\, king cake\, games\, masks\, beads\, and a silent auction\, all to support local pets in need. \nThank you for supporting our mission\, your support is invaluable! \nPardi Paws Tickets Sold Here
URL:https://plannedpethoodleadville.org/event/pardi-paws-2026/
LOCATION:The Silver Llama Market & Eatery\, 615 Harrison Ave UNIT B\, Leadville\, 80461\, United States
ATTACH;FMTTYPE=image/png:https://plannedpethoodleadville.org/wp-content/uploads/2025/05/Pardi-Paws-2026_test-scaled.png
END:VEVENT
BEGIN:VEVENT
DTSTART;VALUE=DATE:20260201
DTEND;VALUE=DATE:20260301
DTSTAMP:20260423T093051
CREATED:20250521T161425Z
LAST-MODIFIED:20250521T161425Z
UID:2123-1769904000-1772323199@plannedpethoodleadville.org
SUMMARY:Spay/Neuter Awareness Month
DESCRIPTION:
URL:https://plannedpethoodleadville.org/event/spay-neuter-awareness-month/
END:VEVENT
BEGIN:VEVENT
DTSTART;VALUE=DATE:20251101
DTEND;VALUE=DATE:20251201
DTSTAMP:20260423T093051
CREATED:20250521T161358Z
LAST-MODIFIED:20250521T161358Z
UID:2121-1761955200-1764547199@plannedpethoodleadville.org
SUMMARY:Senior Pet Month
DESCRIPTION:
URL:https://plannedpethoodleadville.org/event/senior-pet-month/
END:VEVENT
BEGIN:VEVENT
DTSTART;VALUE=DATE:20251001
DTEND;VALUE=DATE:20251101
DTSTAMP:20260423T093051
CREATED:20250521T161318Z
LAST-MODIFIED:20250521T161318Z
UID:2119-1759276800-1761955199@plannedpethoodleadville.org
SUMMARY:Animal Safety and Protection Month
DESCRIPTION:
URL:https://plannedpethoodleadville.org/event/animal-safety-and-protection-month/
END:VEVENT
BEGIN:VEVENT
DTSTART;VALUE=DATE:20250928
DTEND;VALUE=DATE:20250929
DTSTAMP:20260423T093051
CREATED:20250521T161234Z
LAST-MODIFIED:20250521T161234Z
UID:2117-1759017600-1759103999@plannedpethoodleadville.org
SUMMARY:World Rabies Day
DESCRIPTION:
URL:https://plannedpethoodleadville.org/event/world-rabies-day/
END:VEVENT
BEGIN:VEVENT
DTSTART;VALUE=DATE:20250826
DTEND;VALUE=DATE:20250827
DTSTAMP:20260423T093051
CREATED:20250521T161736Z
LAST-MODIFIED:20250521T161736Z
UID:2131-1756166400-1756252799@plannedpethoodleadville.org
SUMMARY:National Dog Day
DESCRIPTION:Celebrate the unconditional love and loyalty of our canine companions on National Dog Day\, observed each year on August 26. This day honors all dogs\, both mixed breed and pure\, and encourages adoption from shelters and rescues. It is also a chance to recognize the working dogs who serve and protect our communities. \nWhether you have a dog of your own or simply love them from afar\, take a moment to appreciate the joy they bring into our lives. 🐶💙
URL:https://plannedpethoodleadville.org/event/national-dog-day/
END:VEVENT
BEGIN:VEVENT
DTSTART;VALUE=DATE:20250822
DTEND;VALUE=DATE:20250823
DTSTAMP:20260423T093051
CREATED:20250521T161627Z
LAST-MODIFIED:20250521T161627Z
UID:2129-1755820800-1755907199@plannedpethoodleadville.org
SUMMARY:Take Your Cat to the Vet Day
DESCRIPTION:
URL:https://plannedpethoodleadville.org/event/take-your-cat-to-the-vet-day-2/
END:VEVENT
BEGIN:VEVENT
DTSTART;VALUE=DATE:20250822
DTEND;VALUE=DATE:20250823
DTSTAMP:20260423T093051
CREATED:20250521T161206Z
LAST-MODIFIED:20250521T161206Z
UID:2115-1755820800-1755907199@plannedpethoodleadville.org
SUMMARY:Take Your Cat to the Vet Day
DESCRIPTION:
URL:https://plannedpethoodleadville.org/event/take-your-cat-to-the-vet-day/
END:VEVENT
BEGIN:VEVENT
DTSTART;TZID=America/Denver:20250614T100000
DTEND;TZID=America/Denver:20250614T140000
DTSTAMP:20260423T093051
CREATED:20250427T215507Z
LAST-MODIFIED:20250521T162117Z
UID:2100-1749895200-1749909600@plannedpethoodleadville.org
SUMMARY:Bark in the Park
DESCRIPTION:Planned Pethood Leadville invites you and your pups to a celebration of all things canine! \nJoin us for: \n\nPlaytime in a fenced-in park\nAnimal-focused books and resources to explore\nInformation about local animal welfare services\nFun\, dog-friendly games with prizes\n\nPlus\, we’re partnering with Modern Mobile Vet to offer wellness checks\, vaccines\, and microchips! (Advance booking is required for veterinary services.) \nWe can’t wait to see you there!
URL:https://plannedpethoodleadville.org/event/bark-in-the-park/
LOCATION:Huck Finn Park\, 445 Maple St\, Leadville\, CO\, 80461\, United States
ATTACH;FMTTYPE=image/jpeg:https://plannedpethoodleadville.org/wp-content/uploads/2025/04/69611DCF-5AF5-4D26-832B-27A14B112F06_1_105_c.jpeg
END:VEVENT
BEGIN:VEVENT
DTSTART;VALUE=DATE:20250530
DTEND;VALUE=DATE:20250531
DTSTAMP:20260423T093051
CREATED:20250521T160617Z
LAST-MODIFIED:20250521T160617Z
UID:2109-1748563200-1748649599@plannedpethoodleadville.org
SUMMARY:International Hug Your Cat Day
DESCRIPTION:Celebrate the purrfect bond between humans and their feline friends on International Hug Your Cat Day! Observed every year on May 30\, this day is dedicated to showing extra love to our cats through cuddles\, playtime\, and pampering. Whether your cat enjoys a warm embrace or a gentle head bump\, it is the ideal time to appreciate the joy and comfort they bring into our lives. \nDo not have a cat? Consider visiting a local shelter or cat café to share some affection with a kitty in need. Let’s spread the love and celebrate our whiskered companions! 🐱💛
URL:https://plannedpethoodleadville.org/event/international-hug-your-cat-day/
END:VEVENT
BEGIN:VEVENT
DTSTART;VALUE=DATE:20250501
DTEND;VALUE=DATE:20250601
DTSTAMP:20260423T093051
CREATED:20250521T161541Z
LAST-MODIFIED:20250521T161541Z
UID:2127-1746057600-1748735999@plannedpethoodleadville.org
SUMMARY:Pet Cancer Awareness Month
DESCRIPTION:
URL:https://plannedpethoodleadville.org/event/pet-cancer-awareness-month/
END:VEVENT
END:VCALENDAR